BEGIN:VCALENDAR
VERSION:2.0
PRODID:-//www.vechigen.ch//NONSGML kigkonsult.se iCalcreator 2.22//
CALSCALE:GREGORIAN
METHOD:PUBLISH
X-WR-TIMEZONE:Europe/Berlin
BEGIN:VEVENT
UID:20260420T114034CEST-1048l2esvj@www.vechigen.ch
DTSTAMP:20260420T094034Z
DESCRIPTION:Klicken Sie auf den folgenden Link\, um weitere Informationen z
 ur Veranstaltung zu erhalten:\nhttp://www.vechigen.ch/de/veranstaltungen/d
 etail/detail.php?i=1662
DTSTART:20260919T070000
DTEND:20260920T030000
LOCATION:Viehschauplatz Utzigen
SUMMARY:Jubiläumsviehschau 100 Jahre VZG Vechigen
END:VEVENT
END:VCALENDAR
