BEGIN:VCALENDAR
VERSION:2.0
PRODID:-//www.vechigen.ch//NONSGML kigkonsult.se iCalcreator 2.22//
CALSCALE:GREGORIAN
METHOD:PUBLISH
X-WR-TIMEZONE:Europe/Berlin
BEGIN:VEVENT
UID:20260420T113954CEST-89985JFpUm@www.vechigen.ch
DTSTAMP:20260420T093954Z
DESCRIPTION:Klicken Sie auf den folgenden Link\, um weitere Informationen z
 ur Veranstaltung zu erhalten:\nhttp://www.vechigen.ch/de/veranstaltungen/d
 etail/detail.php?i=1945
DTSTART:20270903T000000
DTEND:20270905T000000
LOCATION:Littewil
SUMMARY:125jähriges Jubiläum / Eidg. Nachwuchsfest 
END:VEVENT
END:VCALENDAR
