BEGIN:VCALENDAR
VERSION:2.0
PRODID:-//www.vechigen.ch//NONSGML kigkonsult.se iCalcreator 2.22//
CALSCALE:GREGORIAN
METHOD:PUBLISH
X-WR-TIMEZONE:Europe/Berlin
BEGIN:VEVENT
UID:20260420T130240CEST-5280GfkHw4@www.vechigen.ch
DTSTAMP:20260420T110240Z
DESCRIPTION:Klicken Sie auf den folgenden Link\, um weitere Informationen z
 ur Veranstaltung zu erhalten:\nhttp://www.vechigen.ch/de/veranstaltungen/d
 etail/detail.php?i=2274
DTSTART:20260529T140000
DTEND:20260529T160000
LOCATION:Grosser Saal Wohn- und Pflegeheim Utzigen
SUMMARY:Generationen-Event im Wohn- und Pflegeheim Utzigen
END:VEVENT
END:VCALENDAR
