BEGIN:VCALENDAR
VERSION:2.0
PRODID:-//www.vechigen.ch//NONSGML kigkonsult.se iCalcreator 2.22//
CALSCALE:GREGORIAN
METHOD:PUBLISH
X-WR-TIMEZONE:Europe/Berlin
BEGIN:VEVENT
UID:20260420T113901CEST-6440fkAZ7g@www.vechigen.ch
DTSTAMP:20260420T093901Z
DESCRIPTION:Klicken Sie auf den folgenden Link\, um weitere Informationen z
 ur Veranstaltung zu erhalten:\nhttp://www.vechigen.ch/de/veranstaltungen/d
 etail/detail.php?i=2464
DTSTART:20260423T140000
DTEND:20260423T150000
LOCATION:Grosser Saal\, Wohn- und Pflegeheim Utzigen
SUMMARY:Lesung mit Katharina Geiser
END:VEVENT
END:VCALENDAR
