BEGIN:VCALENDAR
VERSION:2.0
PRODID:-//www.vechigen.ch//NONSGML kigkonsult.se iCalcreator 2.22//
CALSCALE:GREGORIAN
METHOD:PUBLISH
X-WR-TIMEZONE:Europe/Berlin
BEGIN:VEVENT
UID:20260422T115638CEST-4367AUhu76@www.vechigen.ch
DTSTAMP:20260422T095638Z
DESCRIPTION:Klicken Sie auf den folgenden Link\, um weitere Informationen z
 ur Veranstaltung zu erhalten:\nhttp://www.vechigen.ch/de/veranstaltungen/d
 etail/detail.php?i=2470
DTSTART:20260613T100000
DTEND:20260613T160000
LOCATION:Schloss Utzigen
SUMMARY:Offene Türen Schloss Utzigen
END:VEVENT
END:VCALENDAR
